BEGIN:VCALENDAR
VERSION:2.0
PRODID:-//StephenGray Vision - ECPv6.15.13//NONSGML v1.0//EN
CALSCALE:GREGORIAN
METHOD:PUBLISH
X-WR-CALNAME:StephenGray Vision
X-ORIGINAL-URL:https://www.stephengrayvision.com
X-WR-CALDESC:Events for StephenGray Vision
REFRESH-INTERVAL;VALUE=DURATION:PT1H
X-Robots-Tag:noindex
X-PUBLISHED-TTL:PT1H
BEGIN:VTIMEZONE
TZID:America/Vancouver
BEGIN:DAYLIGHT
TZOFFSETFROM:-0800
TZOFFSETTO:-0700
TZNAME:PDT
DTSTART:20210314T100000
END:DAYLIGHT
BEGIN:STANDARD
TZOFFSETFROM:-0700
TZOFFSETTO:-0800
TZNAME:PST
DTSTART:20211107T090000
END:STANDARD
BEGIN:DAYLIGHT
TZOFFSETFROM:-0800
TZOFFSETTO:-0700
TZNAME:PDT
DTSTART:20220313T100000
END:DAYLIGHT
BEGIN:STANDARD
TZOFFSETFROM:-0700
TZOFFSETTO:-0800
TZNAME:PST
DTSTART:20221106T090000
END:STANDARD
BEGIN:DAYLIGHT
TZOFFSETFROM:-0800
TZOFFSETTO:-0700
TZNAME:PDT
DTSTART:20230312T100000
END:DAYLIGHT
BEGIN:STANDARD
TZOFFSETFROM:-0700
TZOFFSETTO:-0800
TZNAME:PST
DTSTART:20231105T090000
END:STANDARD
BEGIN:DAYLIGHT
TZOFFSETFROM:-0800
TZOFFSETTO:-0700
TZNAME:PDT
DTSTART:20240310T100000
END:DAYLIGHT
BEGIN:STANDARD
TZOFFSETFROM:-0700
TZOFFSETTO:-0800
TZNAME:PST
DTSTART:20241103T090000
END:STANDARD
END:VTIMEZONE
BEGIN:VEVENT
DTSTART;TZID=America/Vancouver:20230407T190000
DTEND;TZID=America/Vancouver:20230407T230000
DTSTAMP:20260421T030215
CREATED:20230305T211548Z
LAST-MODIFIED:20230308T184242Z
UID:2607-1680894000-1680908400@www.stephengrayvision.com
SUMMARY:Book Launch\, Cannabis-Friendly Ceremony\, and Dance -How Psychedelics Can Help Save the World: Visionary and Indigenous Voices Speak Out
DESCRIPTION:Book Lunch And Celebration\nCannabis-Friendly Ceremony and Dance\nLive Music By Shine Edgar and Curtis Andrew\nSpecial Guess\nDennis Mackenna\n  \n“The voices in this stellar collection—young Turks\, old heads\, First Peoples\, doctors of science and Spirit—fan the flames of possibility with the courage\, vision\, and canny wisdom demanded by the task.”  – Erik Davis\, author of High Weirdness\nTwenty-Five leading influencers share their wisdom on the urgent need for consciousness change and the role of psychedelic plants\, fungi\, and other substances for a planet in crisis and transition. Contributors include Jamie Wheal\, Zoe Helene\, Chris Bache\, Grandmother Maria Alice Campos Freire\, Dennis McKenna\, Belinda Eriacho\, Bruce Damer\, Martina Hoffmann\, Wade Davis\, and over a dozen more visionaries from a wide range of backgrounds. \nThis event will be a celebration of life and possibility. \nJoin us at the venerable St. James Hall in Vancouver\, BC\, Canada on Friday\, April 7\, 2023\, from 7 to 11 pm PST for the launch of this important new book. The program will include brief remarks from special guests\, a cannabis-friendly meditative ceremony (with complimentary medicine)\, a book signing by Stephen Gray\, and a dance with internationally-known world musicians Shine Edgar and Curtis Andrews. \n \nWhen: Friday\, April 7\, 2023\, 7 pm to 11 pm\nWhere: St. James Hall\, 3214 W. 10th Ave\, Vancouver\nDetails and tickets:\nRegister Today – Click Here\nIn-person attendance:\nGeneral Admission: $44 (Canadian) \nVIP package: $74 – includes book signed by Stephen\, 3 of Stephen’s CDS\, VIP seating\, and other benefits and perks. \nOnline attendance:\nGeneral Admission: $22 \nVIP package: $55 Can. – includes signed copy of book ($25 plus $10 shipping = $35 Can.). \n 
URL:https://www.stephengrayvision.com/event/book-launch-cannabis-friendly-ceremony-and-dance-how-psychedelics-can-help-save-the-world-visionary-and-indigenous-voices-speak-out/
LOCATION:St. James Hall\, St. James Hall\, 3214 W. 10th Ave\, Vancouver\, British Columbia\, V6K 2L2\, Canada
CATEGORIES:New Book,Party
ATTACH;FMTTYPE=image/jpeg:https://www.stephengrayvision.com/wp-content/uploads/2022/10/HoPsCh-2.jpeg
END:VEVENT
BEGIN:VEVENT
DTSTART;TZID=America/Vancouver:20221211T150000
DTEND;TZID=America/Vancouver:20221211T160000
DTSTAMP:20260421T030215
CREATED:20221009T182335Z
LAST-MODIFIED:20221011T165815Z
UID:2541-1670770800-1670774400@www.stephengrayvision.com
SUMMARY:How Psychedelics Can Help Save the World - Dennis McKenna\, Belinda Eriacho\, Chris Bache\, Stephen Gray
DESCRIPTION:Join Banyen Books for an illuminating panel discussion with Dennis McKenna\, Belinda Eriacho\, Stephen Gray\, and Christopher Bache on How Psychedelics Can Help Save the World: Visionary and Indigenous Voices Speak Out. \n  \nHow Psychedelics Can Help Save the World explores the immense healing intelligence of nature\, the wisdom of ancient indigenous prophecies and shamanic practices\, the importance of the Divine Feminine for environmental regeneration\, and the crucial role of psychedelic and entheogenic plants in initiating transformations of consciousness. \nRegister Now \n 
URL:https://www.stephengrayvision.com/event/how-psychedelics-can-help-save-the-world-dennis-mckenna-belinda-eriacho-chris-bache-stephen-gray/
LOCATION:Banyen Books\, 3698 West 4th\, Vancouver\, BC\, V6R 1P1\, Canada
CATEGORIES:New Book
ATTACH;FMTTYPE=image/png:https://www.stephengrayvision.com/wp-content/uploads/2022/10/Stephen-Gray-event-_YouTube.png
END:VEVENT
END:VCALENDAR